BEGIN:VCALENDAR
VERSION:2.0
PRODID:-//hacksw/handcal//NONSGML v1.0//EN
BEGIN:VEVENT
SUMMARY:CHAILLOUE 2 - C.P.S.V 1
UID:5b3a30ed-a0e7-4aae-8d69-050f1d30c1c0
DTSTART:20260511T220000Z
DTEND:20260512T220000Z
LOCATION:Localisation   
CATEGORIES:Sportif
STATUS:
URL;VALUE=URI:https://ttcchailloue.sportsregions.fr/evenements/2026/05/12/chailloue-2-cpsv-1-2400942
END:VEVENT
END:VCALENDAR
