BEGIN:VCALENDAR
VERSION:2.0
PRODID:-//hacksw/handcal//NONSGML v1.0//EN
BEGIN:VEVENT
SUMMARY:CHAILLOUE 1 - LONRAI 2
UID:c9ae28df-f78e-42a3-94a2-8641a9ac1162
DTSTART:20260419T220000Z
DTEND:20260420T220000Z
LOCATION:Localisation   
CATEGORIES:Sportif
STATUS:
URL;VALUE=URI:https://ttcchailloue.sportsregions.fr/evenements/2026/04/20/chailloue-1-lonrai-2-2400924
END:VEVENT
END:VCALENDAR
