BEGIN:VCALENDAR
VERSION:2.0
PRODID:-//hacksw/handcal//NONSGML v1.0//EN
BEGIN:VEVENT
SUMMARY:ST GERMAIN 1 - CHAILLOUE 1
UID:66b5a2eb-f70f-4a64-94ab-64295ab6d71c
DTSTART:20260330T220000Z
DTEND:20260331T220000Z
LOCATION:Localisation   
CATEGORIES:Sportif
STATUS:
URL;VALUE=URI:https://ttcchailloue.sportsregions.fr/evenements/2026/03/31/st-germain-1-chailloue-1-2400921
END:VEVENT
END:VCALENDAR
